BEGIN:VCALENDAR
VERSION:2.0
PRODID:-//MarriageWell - ECPv6.15.17.1//NONSGML v1.0//EN
CALSCALE:GREGORIAN
METHOD:PUBLISH
X-WR-CALNAME:MarriageWell
X-ORIGINAL-URL:https://marriagewell.org
X-WR-CALDESC:Events for MarriageWell
REFRESH-INTERVAL;VALUE=DURATION:PT1H
X-Robots-Tag:noindex
X-PUBLISHED-TTL:PT1H
BEGIN:VTIMEZONE
TZID:America/Los_Angeles
BEGIN:DAYLIGHT
TZOFFSETFROM:-0800
TZOFFSETTO:-0700
TZNAME:PDT
DTSTART:20170312T100000
END:DAYLIGHT
BEGIN:STANDARD
TZOFFSETFROM:-0700
TZOFFSETTO:-0800
TZNAME:PST
DTSTART:20171105T090000
END:STANDARD
BEGIN:DAYLIGHT
TZOFFSETFROM:-0800
TZOFFSETTO:-0700
TZNAME:PDT
DTSTART:20180311T100000
END:DAYLIGHT
BEGIN:STANDARD
TZOFFSETFROM:-0700
TZOFFSETTO:-0800
TZNAME:PST
DTSTART:20181104T090000
END:STANDARD
BEGIN:DAYLIGHT
TZOFFSETFROM:-0800
TZOFFSETTO:-0700
TZNAME:PDT
DTSTART:20190310T100000
END:DAYLIGHT
BEGIN:STANDARD
TZOFFSETFROM:-0700
TZOFFSETTO:-0800
TZNAME:PST
DTSTART:20191103T090000
END:STANDARD
END:VTIMEZONE
BEGIN:VEVENT
DTSTART;TZID=America/Los_Angeles:20180720T190000
DTEND;TZID=America/Los_Angeles:20180720T210000
DTSTAMP:20260422T122357
CREATED:20180627T030003Z
LAST-MODIFIED:20180713T010256Z
UID:10000114-1532113200-1532120400@marriagewell.org
SUMMARY:Swing Dance Date Night
DESCRIPTION:Join us for another FUN Date Night event.  A Swing Dance lesson & dessert. We’ll have professional instructor Jay Baym teach us some fun swing dance steps. NO EXPERIENCE NECESSARY.  After our lesson we’ll have some delicious dessert\, then open dancing to practice what you learned.   This is a great opportunity to connect with the one you love.  Space is limited.
URL:https://marriagewell.org/event/swing-dance-date-night/
LOCATION:Billy Clower Dance Studio\, 75 MacMillan Ave.\, Ventura\, CA\, 93003\, United States
ORGANIZER;CN="MarriageWell":MAILTO:info@marriagewell.org
GEO:34.2786992;-119.2764236
X-APPLE-STRUCTURED-LOCATION;VALUE=URI;X-ADDRESS=Billy Clower Dance Studio 75 MacMillan Ave. Ventura CA 93003 United States;X-APPLE-RADIUS=500;X-TITLE=75 MacMillan Ave.:geo:-119.2764236,34.2786992
END:VEVENT
END:VCALENDAR