BEGIN:VCALENDAR
VERSION:2.0
PRODID:-//MarriageWell - ECPv6.15.17.1//NONSGML v1.0//EN
CALSCALE:GREGORIAN
METHOD:PUBLISH
X-WR-CALNAME:MarriageWell
X-ORIGINAL-URL:https://marriagewell.org
X-WR-CALDESC:Events for MarriageWell
REFRESH-INTERVAL;VALUE=DURATION:PT1H
X-Robots-Tag:noindex
X-PUBLISHED-TTL:PT1H
BEGIN:VTIMEZONE
TZID:UTC
BEGIN:STANDARD
TZOFFSETFROM:+0000
TZOFFSETTO:+0000
TZNAME:UTC
DTSTART:20140101T000000
END:STANDARD
END:VTIMEZONE
BEGIN:VTIMEZONE
TZID:America/Los_Angeles
BEGIN:DAYLIGHT
TZOFFSETFROM:-0800
TZOFFSETTO:-0700
TZNAME:PDT
DTSTART:20140309T100000
END:DAYLIGHT
BEGIN:STANDARD
TZOFFSETFROM:-0700
TZOFFSETTO:-0800
TZNAME:PST
DTSTART:20141102T090000
END:STANDARD
BEGIN:DAYLIGHT
TZOFFSETFROM:-0800
TZOFFSETTO:-0700
TZNAME:PDT
DTSTART:20150308T100000
END:DAYLIGHT
BEGIN:STANDARD
TZOFFSETFROM:-0700
TZOFFSETTO:-0800
TZNAME:PST
DTSTART:20151101T090000
END:STANDARD
BEGIN:DAYLIGHT
TZOFFSETFROM:-0800
TZOFFSETTO:-0700
TZNAME:PDT
DTSTART:20160313T100000
END:DAYLIGHT
BEGIN:STANDARD
TZOFFSETFROM:-0700
TZOFFSETTO:-0800
TZNAME:PST
DTSTART:20161106T090000
END:STANDARD
END:VTIMEZONE
BEGIN:VEVENT
DTSTART;TZID=UTC:20160109T190000
DTEND;TZID=UTC:20160109T210000
DTSTAMP:20260422T010751
CREATED:20151216T054956Z
LAST-MODIFIED:20160109T000630Z
UID:10000060-1452366000-1452373200@marriagewell.org
SUMMARY:Comedy Date Night @ Good Shepherd Church Camarillo - SOLD OUT
DESCRIPTION:VERY SORRY BUT THIS EVENT HAS SOLD OUT.  PLEASE JOIN US FOR COMEDY DATE NIGHT JAN. 23 IN MOORPARK. TICKETS HERE \nDon’t miss the fun.  Hilarious clean comedy at its best with 2 top So Cal comedians.  Join us for a night of laughs & delicious dessert after the show. \nThis is a FREE couples event.  Offering will be received to benefit MarriageWell counseling center. \nFree tickets can be secured below. Space is limited\, RSVP today.
URL:https://marriagewell.org/event/comedy-date-night-good-shepherd-church-camarillo/
LOCATION:Good Shepherd Church\, 380 Arneill Rd\, Camarillo\, CA\, 93010\, United States
ORGANIZER;CN="MarriageWell":MAILTO:info@marriagewell.org
GEO:34.2207172;-119.0374642
X-APPLE-STRUCTURED-LOCATION;VALUE=URI;X-ADDRESS=Good Shepherd Church 380 Arneill Rd Camarillo CA 93010 United States;X-APPLE-RADIUS=500;X-TITLE=380 Arneill Rd:geo:-119.0374642,34.2207172
END:VEVENT
BEGIN:VEVENT
DTSTART;TZID=UTC:20151210T110000
DTEND;TZID=UTC:20151210T220000
DTSTAMP:20260422T010751
CREATED:20151130T043244Z
LAST-MODIFIED:20151130T043244Z
UID:10000059-1449745200-1449784800@marriagewell.org
SUMMARY:MarriageWell FUN'raiser at Pizza Rev
DESCRIPTION:Join us for a FUN’raiser with LIVE MUSIC\, giveaways & great food.  Eat anytime btwn 11a-10p at Pizza Rev @ the Camarillo Outlets\, tell them your supporting MarriageWell and we will get 20% donated to our counseling center renovation.  LIVE MUSIC will happen from 6-8pm.  Come enjoy the sounds of Jimmy Mac & Friends.
URL:https://marriagewell.org/event/marriagewell-funraiser-at-pizza-rev/
LOCATION:Pizza Rev\, 660 E. Ventura Blvd (Cam Outlets)\, Camarillo\, CA\, 93010\, United States
ORGANIZER;CN="MarriageWell":MAILTO:info@marriagewell.org
GEO:34.21665;-119.0603778
X-APPLE-STRUCTURED-LOCATION;VALUE=URI;X-ADDRESS=Pizza Rev 660 E. Ventura Blvd (Cam Outlets) Camarillo CA 93010 United States;X-APPLE-RADIUS=500;X-TITLE=660 E. Ventura Blvd (Cam Outlets):geo:-119.0603778,34.21665
END:VEVENT
BEGIN:VEVENT
DTSTART;TZID=UTC:20151121T173000
DTEND;TZID=UTC:20151121T200000
DTSTAMP:20260422T010751
CREATED:20151117T061202Z
LAST-MODIFIED:20151117T061202Z
UID:10000054-1448127000-1448136000@marriagewell.org
SUMMARY:MarriageWell MeetUp - Christmas tree lighting @ The Collection
DESCRIPTION:We’ll meet in the Starbucks/Panera courtyard to grab some coffee\, fellowship then walk over to the Christmas tree lighting. A geat time to get to know others in the MarriageWell group and get in the Christmas spirit. An event for the whole family. Pls join us for the fun.
URL:https://marriagewell.org/event/marriagewell-meetup-christmas-tree-lighting-the-collection/
LOCATION:Cinemark at The Collection\, Oxnard\, 669 Town Center Drive\, Oxnard\, CA\, 93036\, United States
ORGANIZER;CN="MarriageWell":MAILTO:info@marriagewell.org
GEO:34.240685;-119.17893
X-APPLE-STRUCTURED-LOCATION;VALUE=URI;X-ADDRESS=Cinemark at The Collection Oxnard 669 Town Center Drive Oxnard CA 93036 United States;X-APPLE-RADIUS=500;X-TITLE=669 Town Center Drive:geo:-119.17893,34.240685
END:VEVENT
BEGIN:VEVENT
DTSTART;TZID=UTC:20151121T080000
DTEND;TZID=UTC:20151121T160000
DTSTAMP:20260422T010751
CREATED:20151115T043216Z
LAST-MODIFIED:20151115T043647Z
UID:10000063-1448092800-1448121600@marriagewell.org
SUMMARY:The Christian Counselor Workshop
DESCRIPTION:Summit Bible College presents a workshop for those desiring to be equipped as a christian counselor. \nThings that you will learn or receive: \n-Resources for Christian Counselors\n-Helping the client grow in Christ\nCounseling Concepts:\n-Beating Burnout\n-Fighting Worry\n-Guilt & Freedom\n-Knowing the will of God\n-Ten Techniques for Handling Anger\nAnd much more… \nPrice is $35 per person and includes book.\n$50 for couples.\nTo reserve a spot or questions: 805-947-1215\nAsk for Maria.
URL:https://marriagewell.org/event/the-christian-counselor-workshop/
LOCATION:Summit Bible College\, 5725 Ralston Suite 203\, Ventura\, 93010\, United States
ORGANIZER;CN="Maria Huerta":MAILTO:mhuerta@summitbiblecollege.com
GEO:34.2610761;-119.2136281
X-APPLE-STRUCTURED-LOCATION;VALUE=URI;X-ADDRESS=Summit Bible College 5725 Ralston Suite 203 Ventura 93010 United States;X-APPLE-RADIUS=500;X-TITLE=5725 Ralston Suite 203:geo:-119.2136281,34.2610761
END:VEVENT
BEGIN:VEVENT
DTSTART;VALUE=DATE:20151115
DTEND;VALUE=DATE:20151211
DTSTAMP:20260422T010751
CREATED:20151116T105426Z
LAST-MODIFIED:20151121T082133Z
UID:10000064-1447545600-1449791999@marriagewell.org
SUMMARY:Delicious Tamale Fundraiser
DESCRIPTION:Love homemade tamales??  We have them made with love.  Order a dozen or more and help us renovate our counseling center rooms.  Suggested donation is $20 per dozen for chicken or pork.  Additional donations towards our counseling center renovation are tax deductible.  Orders will be ready for pickup on two dates in Dec. (12/2 and 12/12) at “The Well” in Ventura.  Note that you can order below for # of dozens and date of pickup.  We’ll notify you of the pickup time window on both days. \nThank you for supporting MarriageWell with your order & donation.  ENJOY YOUR DELICIOUS TAMALES
URL:https://marriagewell.org/event/delicious-tamale-fundraiser/
LOCATION:MarriageWell’s “The Well”\, 1496 Tower Square\, Ventura\, CA\, 93003\, United States
ORGANIZER;CN="MarriageWell":MAILTO:info@marriagewell.org
GEO:34.2604003;-119.2417767
X-APPLE-STRUCTURED-LOCATION;VALUE=URI;X-ADDRESS=MarriageWell’s “The Well” 1496 Tower Square Ventura CA 93003 United States;X-APPLE-RADIUS=500;X-TITLE=1496 Tower Square:geo:-119.2417767,34.2604003
END:VEVENT
BEGIN:VEVENT
DTSTART;TZID=UTC:20151114T180000
DTEND;TZID=UTC:20151114T200000
DTSTAMP:20260422T010751
CREATED:20151017T114305Z
LAST-MODIFIED:20151019T074632Z
UID:10000061-1447524000-1447531200@marriagewell.org
SUMMARY:Couples Paint Night
DESCRIPTION:In just about two hours\, our instructor couple guides you\, step by step\, as you paint your canvas painting….each painting is great on it’s own….but brought together they’re even better! You will be amazed at your masterpiece! \nNever painted before? No problem! Everything you need is provided: easel\, canvas\, paints\, brushes\, and even a smock\, we guide you with fun instructions. Couples Paint night is always fun! It’s so stress free and relaxing too! Cost includes refreshments\, snacks\, canvas\, paints\, easel\, smock\, all set up and clean up.  FUN\, FUN\, FUN! \nChoose ticket qty (1) per couple below. Cost is $55 per couple.
URL:https://marriagewell.org/event/couples-paint-night/
LOCATION:MarriageWell’s “The Well”\, 1496 Tower Square\, Ventura\, CA\, 93003\, United States
ORGANIZER;CN="MarriageWell":MAILTO:info@marriagewell.org
GEO:34.2604003;-119.2417767
X-APPLE-STRUCTURED-LOCATION;VALUE=URI;X-ADDRESS=MarriageWell’s “The Well” 1496 Tower Square Ventura CA 93003 United States;X-APPLE-RADIUS=500;X-TITLE=1496 Tower Square:geo:-119.2417767,34.2604003
END:VEVENT
BEGIN:VEVENT
DTSTART;TZID=UTC:20151017T080000
DTEND;TZID=UTC:20151017T160000
DTSTAMP:20260422T010751
CREATED:20150723T050341Z
LAST-MODIFIED:20151002T080601Z
UID:10000067-1445068800-1445097600@marriagewell.org
SUMMARY:"I Still Do" Conference Simulcast
DESCRIPTION:A MARRIAGE CHANGING EVENT FOR COUPLES\nThe goal of this event is to gather over 200 couples from all Ventura County to honor God & their marriages. \nFamilyLife® announces “I Still Do®”\, a powerful\, practical\, one-day marriage event where couples can invest in and strengthen their marriage.  Couples will join thousands of others to affirm the fundamental importance of strong\, healthy\, committed marriages in every culture.  By exploring God’s design for marriage\, couples will have a chance to reaffirm that their marriage matters – to their children and to the rest of society. \nLISTEN TO OUR RADIO INTERVIEW ABOUT THE  EVENT HERE. \nGiveaway prize: a full couple registration to a FamilyLife® Weekend To Remember (A $300 value). The true value is priceless. When you register by Sept. 30th\, \nTicket Prices per person (includes lunch & workbook): \n$37.50 from Oct. 1 through Oct. 17 \nREGISTER HERE \n* We care about your children however\, due to the length of this event\, we cannot  provide childcare.
URL:https://marriagewell.org/event/i-still-do-conference-simulcast/
LOCATION:Reality Ventura\, 5415 Ralston St\, Ventura\, CA\, 93003\, United States
ORGANIZER;CN="MarriageWell":MAILTO:info@marriagewell.org
GEO:34.2602383;-119.2184857
X-APPLE-STRUCTURED-LOCATION;VALUE=URI;X-ADDRESS=Reality Ventura 5415 Ralston St Ventura CA 93003 United States;X-APPLE-RADIUS=500;X-TITLE=5415 Ralston St:geo:-119.2184857,34.2602383
END:VEVENT
BEGIN:VEVENT
DTSTART;TZID=America/Los_Angeles:20150911T190000
DTEND;TZID=America/Los_Angeles:20150911T220000
DTSTAMP:20260422T010751
CREATED:20150823T220202Z
LAST-MODIFIED:20150831T001543Z
UID:10000079-1441998000-1442008800@marriagewell.org
SUMMARY:MarriageWell "Couples Coffeehouse" with LIVE music
DESCRIPTION:Join us at “The Well” for a night of quaint coffeehouse ambiance\, live music from incredible local talent and of course amazing java & tea.  PLEASE RSVP BELOW TO HELP US GET A COUNT. \nNote:  We’re not going to set a fee for this event.  We’ll accept donations the night of to help us cover the cost of hiring the musicians\, coffee & treats.  Come enjoy and support a great cause – The MarriageWell vision.  If you’d like to sponsor this event or donate online prior to the event\, you can do that by clicking here or call Al Perez at 805-444-0314.
URL:https://marriagewell.org/event/marriagewell-couples-coffeehouse-with-live-music/
LOCATION:MarriageWell’s “The Well”\, 1496 Tower Square\, Ventura\, CA\, 93003\, United States
ORGANIZER;CN="MarriageWell":MAILTO:info@marriagewell.org
GEO:34.2604003;-119.2417767
X-APPLE-STRUCTURED-LOCATION;VALUE=URI;X-ADDRESS=MarriageWell’s “The Well” 1496 Tower Square Ventura CA 93003 United States;X-APPLE-RADIUS=500;X-TITLE=1496 Tower Square:geo:-119.2417767,34.2604003
END:VEVENT
BEGIN:VEVENT
DTSTART;TZID=America/Los_Angeles:20150901T190000
DTEND;TZID=America/Los_Angeles:20150901T214000
DTSTAMP:20260422T010751
CREATED:20150731T144011Z
LAST-MODIFIED:20150828T112210Z
UID:10000068-1441134000-1441143600@marriagewell.org
SUMMARY:Couples Movie Date Night - War Room
DESCRIPTION:MarriageWell “Meetup” Event at CENTURY RIVERPARK 16 (The Collection). Join us to enjoy this powerful movie about the power of prayer in your marriage.  No payment to MarriageWell on this\, we’re just “meeting up” to enjoy the movie together. \nWe’ll meet outside the theater at 7:00 pm. We’ll have a treat for each couple that arrives between 7:00-7:15 pm. Movie starts at 7:40 pm \nSee trailer here. \nTickets $6.00 per person \nfor Tickets: \nwww.fandango.com or purchase at the box office that night \n \n The Power of Prayer in Marriage  It will challenge you spiritually and touch you emotionally.
URL:https://marriagewell.org/event/couples-movie-date-night-war-room/
LOCATION:Century Riverpark 16\, 2766 Seaglass Way\, Oxnard\, CA\, 93036\, United States
GEO:34.2394926;-119.1753074
X-APPLE-STRUCTURED-LOCATION;VALUE=URI;X-ADDRESS=Century Riverpark 16 2766 Seaglass Way Oxnard CA 93036 United States;X-APPLE-RADIUS=500;X-TITLE=2766 Seaglass Way:geo:-119.1753074,34.2394926
END:VEVENT
BEGIN:VEVENT
DTSTART;TZID=America/Los_Angeles:20150816T180000
DTEND;TZID=America/Los_Angeles:20150816T193000
DTSTAMP:20260422T010751
CREATED:20150624T112856Z
LAST-MODIFIED:20150814T032620Z
UID:10000084-1439748000-1439753400@marriagewell.org
SUMMARY:Couples Night of Worship & Testimonies
DESCRIPTION:Come let us worship the King together.  We’re bringing in a band to lead us in a time of praise & worship\, couples sharing some encouraging personal testimonies and of course…Dessert afterwards.  Please RSVP for this free event below. \n 
URL:https://marriagewell.org/event/couples-night-of-worship-testimonies/
LOCATION:MarriageWell Coaching Center\, 534 High Point Dr.\, Ventura\, CA\, 93003\, United States
GEO:34.2890586;-119.1994154
X-APPLE-STRUCTURED-LOCATION;VALUE=URI;X-ADDRESS=MarriageWell Coaching Center 534 High Point Dr. Ventura CA 93003 United States;X-APPLE-RADIUS=500;X-TITLE=534 High Point Dr.:geo:-119.1994154,34.2890586
END:VEVENT
BEGIN:VEVENT
DTSTART;TZID=America/Los_Angeles:20150811T100000
DTEND;TZID=America/Los_Angeles:20150811T120000
DTSTAMP:20260422T010751
CREATED:20150723T045552Z
LAST-MODIFIED:20150725T113725Z
UID:10000066-1439287200-1439294400@marriagewell.org
SUMMARY:VC Fair Blessing of the Marriages
DESCRIPTION:Join us on Senior Day at the fair for a blessing of couples married over 40 yrs.  This is an annual event that the fair does and this year MarriageWell is joining with Cypress Place Senior Living to honor these gems.
URL:https://marriagewell.org/event/vc-fair-blessing-of-the-marriages/
LOCATION:Seaside Park\, 10 W Harbor Blvd\, Ventura\, CA\, 93001\, United States
GEO:34.2759878;-119.3037615
X-APPLE-STRUCTURED-LOCATION;VALUE=URI;X-ADDRESS=Seaside Park 10 W Harbor Blvd Ventura CA 93001 United States;X-APPLE-RADIUS=500;X-TITLE=10 W Harbor Blvd:geo:-119.3037615,34.2759878
END:VEVENT
BEGIN:VEVENT
DTSTART;TZID=America/Los_Angeles:20150627T090000
DTEND;TZID=America/Los_Angeles:20150627T143000
DTSTAMP:20260422T010751
CREATED:20150610T085524Z
LAST-MODIFIED:20150611T221427Z
UID:10000081-1435395600-1435415400@marriagewell.org
SUMMARY:Power of Love Women's Conference
DESCRIPTION:Daily Disciples with Bobbye & Tonilee in partnership with \nMarriageWell\, KDAR & South Coast Fellowship are bringing the Power of Love Women’s Conference to South Coast Fellowship Saturday\, June 27 from 9am to 2:30p. \nTickets are only $25 and on sale now at Daily Disciples Power of Love website \nContact 800.992.0369
URL:https://marriagewell.org/event/power-of-love-womens-conference/
LOCATION:South Coast Fellowship\, 4050 Market St.\, Ventura\, CA\, 93003\, United States
GEO:34.2588154;-119.2395607
X-APPLE-STRUCTURED-LOCATION;VALUE=URI;X-ADDRESS=South Coast Fellowship 4050 Market St. Ventura CA 93003 United States;X-APPLE-RADIUS=500;X-TITLE=4050 Market St.:geo:-119.2395607,34.2588154
END:VEVENT
BEGIN:VEVENT
DTSTART;TZID=America/Los_Angeles:20150626T190000
DTEND;TZID=America/Los_Angeles:20150626T213000
DTSTAMP:20260422T010751
CREATED:20150617T114148Z
LAST-MODIFIED:20150617T114940Z
UID:10000083-1435345200-1435354200@marriagewell.org
SUMMARY:DATE NIGHT EVENT - COUPLES COUNTRY DANCE LESSON & DESSERT
DESCRIPTION:  \nJoin us for another FUN Date Night event.  We’ll have a professional dance instructor teach us some fun country dance steps\, then delicious dessert\, then open dancing to practice what you learned.  NO experience necessary. Great opportunity to connect with the one you love.  Space is limited.  $20/couple
URL:https://marriagewell.org/event/date-night-event-couples-country-dance-lesson-dessert/
LOCATION:CA
END:VEVENT
BEGIN:VEVENT
DTSTART;TZID=America/Los_Angeles:20150509T120000
DTEND;TZID=America/Los_Angeles:20150509T140000
DTSTAMP:20260422T010751
CREATED:20150329T084732Z
LAST-MODIFIED:20150430T043658Z
UID:10000087-1431172800-1431180000@marriagewell.org
SUMMARY:MarriageWell Launch Event - A Legacy Luncheon\, Honoring the 5 Longest Married Couples in Ventura County.
DESCRIPTION:Join us for a trip back to the 1940’s that includes 40’s decor\, 40’s music\, catered sit down luncheon\, honoring of couples married 65+ yrs\nand a special tribute to the 5 longest married couples in Ventura County.\nMay 9th\, noon at Camarillo Community Center.
URL:https://marriagewell.org/event/marriagewell-launch-event/
LOCATION:Camarillo Community Center\, 1605 Burnley St.\, Camarillo\, CA\, 93010\, United States
GEO:34.226217;-119.0493242
X-APPLE-STRUCTURED-LOCATION;VALUE=URI;X-ADDRESS=Camarillo Community Center 1605 Burnley St. Camarillo CA 93010 United States;X-APPLE-RADIUS=500;X-TITLE=1605 Burnley St.:geo:-119.0493242,34.226217
END:VEVENT
BEGIN:VEVENT
DTSTART;VALUE=DATE:20150408
DTEND;VALUE=DATE:20150514
DTSTAMP:20260422T010751
CREATED:20150408T061536Z
LAST-MODIFIED:20150408T061536Z
UID:10000088-1428451200-1431561599@marriagewell.org
SUMMARY:Art of Marriage Small Group Study
DESCRIPTION:Wednesday • April 8 – May 13 • 7pm – 8:15pm • HeBrews Corner\n$25 includes two workbooks • Please sign up by March 27 \nMaking marriage work is a divinely inspired art form. That’s why FamilyLife® has been helping couples understand God’s plan for relationships for over 35 years. In The Art of Marriage video event we wove together expert interviews\, real-life stories\, humorous vignettes\, man-on-the-street interviews\, and much more to portray both the challenges and the beauty of God’s design. \nParticipants of the study interact with one another in a small group setting\, and then interact as a couple on date night. The accompanying workbook features teaching highlights and articles as well as group discussion questions\, date night discussion questions for couples\, and date night ideas. \nTopics addressed in the six sessions are:\n• Love Happens: God’s Purpose and Plan\n• Love Fades: Overcoming Isolation\n• Love Dances: Fulfilling Our Responsibilities\n• Love Interrupted: Communication and Conflict\n• Love Sizzles: Experiencing Real Intimacy\n• Love Always: Leaving a Lasting Legacy
URL:https://marriagewell.org/event/art-of-marriage-small-group-study/
LOCATION:South Coast Fellowship\, 4050 Market St.\, Ventura\, CA\, 93003\, United States
GEO:34.2588154;-119.2395607
X-APPLE-STRUCTURED-LOCATION;VALUE=URI;X-ADDRESS=South Coast Fellowship 4050 Market St. Ventura CA 93003 United States;X-APPLE-RADIUS=500;X-TITLE=4050 Market St.:geo:-119.2395607,34.2588154
END:VEVENT
END:VCALENDAR