BEGIN:VCALENDAR
VERSION:2.0
PRODID:-//MarriageWell - ECPv6.15.17.1//NONSGML v1.0//EN
CALSCALE:GREGORIAN
METHOD:PUBLISH
X-WR-CALNAME:MarriageWell
X-ORIGINAL-URL:https://marriagewell.org
X-WR-CALDESC:Events for MarriageWell
REFRESH-INTERVAL;VALUE=DURATION:PT1H
X-Robots-Tag:noindex
X-PUBLISHED-TTL:PT1H
BEGIN:VTIMEZONE
TZID:America/Los_Angeles
BEGIN:DAYLIGHT
TZOFFSETFROM:-0800
TZOFFSETTO:-0700
TZNAME:PDT
DTSTART:20160313T100000
END:DAYLIGHT
BEGIN:STANDARD
TZOFFSETFROM:-0700
TZOFFSETTO:-0800
TZNAME:PST
DTSTART:20161106T090000
END:STANDARD
BEGIN:DAYLIGHT
TZOFFSETFROM:-0800
TZOFFSETTO:-0700
TZNAME:PDT
DTSTART:20170312T100000
END:DAYLIGHT
BEGIN:STANDARD
TZOFFSETFROM:-0700
TZOFFSETTO:-0800
TZNAME:PST
DTSTART:20171105T090000
END:STANDARD
BEGIN:DAYLIGHT
TZOFFSETFROM:-0800
TZOFFSETTO:-0700
TZNAME:PDT
DTSTART:20180311T100000
END:DAYLIGHT
BEGIN:STANDARD
TZOFFSETFROM:-0700
TZOFFSETTO:-0800
TZNAME:PST
DTSTART:20181104T090000
END:STANDARD
END:VTIMEZONE
BEGIN:VEVENT
DTSTART;TZID=America/Los_Angeles:20170214T180000
DTEND;TZID=America/Los_Angeles:20170214T210000
DTSTAMP:20260422T134437
CREATED:20161231T042904Z
LAST-MODIFIED:20170214T162702Z
UID:2935-1487095200-1487106000@marriagewell.org
SUMMARY:A Valentine's Comedy Date Night
DESCRIPTION:Join us for a memorable date night event with 360* views atop the exclusive Tower Club overlooking Ventura County & the Pacific Ocean. Your special Valentine’s Date Night includes Hors d’oeuvres\, no host bar in the Sky Lounge\, a Valentine’s photo\, a comedy show featuring 4 top So Cal comedians.  A memorable night of Love & Laughter. \nLimited space – 75 couples. Reserve your ticket today. \nJust added: We’ve worked out a special rate at the Marriott Courtyard right next door to the Tower Club building. The MarriageWell group rate is $119/night. We are not connected to the hotel in any way and all questions can be directed to them.  We just wanted to provide a discounted option at a nice hotel to you if you choose to take advantage of that.  If you want to take advantage of this deal\, you can use the below link. \nHotel discount LINK \nTHIS EVENT IS NOW SOLD OUT. If you would like to be added to a waiting list\, please email us at info@marriagewell.org and we will contact you if there are cancellations.
URL:https://marriagewell.org/event/a-valentines-comedy-date-night/
LOCATION:The Tower Club\, 300 East Esplanade Drive\, 22nd Floor\, Oxnard\, CA\, 93036\, United States
ORGANIZER;CN="MarriageWell":MAILTO:info@marriagewell.org
GEO:34.2283307;-119.174444
X-APPLE-STRUCTURED-LOCATION;VALUE=URI;X-ADDRESS=The Tower Club 300 East Esplanade Drive 22nd Floor Oxnard CA 93036 United States;X-APPLE-RADIUS=500;X-TITLE=300 East Esplanade Drive\, 22nd Floor:geo:-119.174444,34.2283307
END:VEVENT
END:VCALENDAR